BEGIN:VCALENDAR
VERSION:2.0
PRODID:-//Chatham Park Homes - ECPv6.15.17//NONSGML v1.0//EN
CALSCALE:GREGORIAN
METHOD:PUBLISH
X-WR-CALNAME:Chatham Park Homes
X-ORIGINAL-URL:https://chathampark.com
X-WR-CALDESC:Events for Chatham Park Homes
REFRESH-INTERVAL;VALUE=DURATION:PT1H
X-Robots-Tag:noindex
X-PUBLISHED-TTL:PT1H
BEGIN:VTIMEZONE
TZID:America/New_York
BEGIN:DAYLIGHT
TZOFFSETFROM:-0500
TZOFFSETTO:-0400
TZNAME:EDT
DTSTART:20250309T070000
END:DAYLIGHT
BEGIN:STANDARD
TZOFFSETFROM:-0400
TZOFFSETTO:-0500
TZNAME:EST
DTSTART:20251102T060000
END:STANDARD
BEGIN:DAYLIGHT
TZOFFSETFROM:-0500
TZOFFSETTO:-0400
TZNAME:EDT
DTSTART:20260308T070000
END:DAYLIGHT
BEGIN:STANDARD
TZOFFSETFROM:-0400
TZOFFSETTO:-0500
TZNAME:EST
DTSTART:20261101T060000
END:STANDARD
BEGIN:DAYLIGHT
TZOFFSETFROM:-0500
TZOFFSETTO:-0400
TZNAME:EDT
DTSTART:20270314T070000
END:DAYLIGHT
BEGIN:STANDARD
TZOFFSETFROM:-0400
TZOFFSETTO:-0500
TZNAME:EST
DTSTART:20271107T060000
END:STANDARD
END:VTIMEZONE
BEGIN:VEVENT
DTSTART;TZID=America/New_York:20260224T110000
DTEND;TZID=America/New_York:20260224T130000
DTSTAMP:20260421T082938
CREATED:20260209T154011Z
LAST-MODIFIED:20260209T154920Z
UID:1537-1771930800-1771938000@chathampark.com
SUMMARY:Tacos + Townhomes with Tri Pointe Homes
DESCRIPTION:Calling all Realtors! You’re invited to the join Tri Pointe Homes for lunch and a tour of their award-winning Townes at NoVi right here in Chatham Park. Enjoy a complimentary Taco Tuesday lunch while you explore stylish new 2-story townhomes and learn what makes this location such a standout. Come hungry. Leave inspired\n\nWhen: February 24th from 11 AM – 1 PM\nWhere: 169 Parkland Dr.\, Pittsboro\, NC\nPlease RSVP to Gabriell.Taylor@TriPointeHomes.com
URL:https://chathampark.com/event/tacos-townhomes-with-tri-pointe-homes/
LOCATION:Townes at NoVi\, 169 Parkland Dr.\, Pittsboro\, NC\, 27312\, United States
CATEGORIES:Realtors
ATTACH;FMTTYPE=image/jpeg:https://chathampark.com/wp-content/uploads/2026/02/townes-at-novi-02.jpg
END:VEVENT
END:VCALENDAR